BEGIN:VCALENDAR
VERSION:2.0
PRODID:-//jEvents 2.0 for Joomla//EN
CALSCALE:GREGORIAN
METHOD:PUBLISH
BEGIN:VEVENT
UID:af126c3556273c4d5f93f3699c59c045
CATEGORIES:Community Events
CREATED:20260310T154555
SUMMARY:Beaded Wind Chime Workshop - Little Britain Branch
LOCATION:Little Britain Library Branch
DESCRIPTION:Add some extra jingle and sparkle to your backyard with a handmade beaded w
 ind chime! All supplies provided.\n\nThis program is designed for school-ag
 ed children. Drop In anytime during branch hours.
X-ALT-DESC;FMTTYPE=text/html:Add some extra jingle and sparkle to your backyard with a handmade beaded w
 ind chime! All supplies provided.<br /><br />This program is designed for s
 chool-aged children. Drop In anytime during branch hours.
DTSTAMP:20260423T043625
DTSTART:20260316T103000
DTEND:20260316T133000
SEQUENCE:0
TRANSP:OPAQUE
END:VEVENT
END:VCALENDAR