BEGIN:VCALENDAR
VERSION:2.0
PRODID:-//jEvents 2.0 for Joomla//EN
CALSCALE:GREGORIAN
METHOD:PUBLISH
BEGIN:VEVENT
UID:5ae8d0ee47d79240f2fa271124e68141
CATEGORIES:Community Events
CREATED:20260310T154658
SUMMARY:Glow Jar Lantern Workshop - Woodville Branch
LOCATION:Woodville Library Branch
DESCRIPTION:Make magical glow-in-the-dark jars to take home and store your favourite su
 pplies or treats! Please wear clothes you don’t mind getting messy, as pain
 t will be used. All supplies provided.\n\nThis program is designed for scho
 ol-aged children.
X-ALT-DESC;FMTTYPE=text/html:Make magical glow-in-the-dark jars to take home and store your favourite su
 pplies or treats! Please wear clothes you don’t mind getting messy, as pain
 t will be used. All supplies provided.<br /><br />This program is designed 
 for school-aged children.
DTSTAMP:20260422T213556
DTSTART:20260316T103000
DTEND:20260316T113000
SEQUENCE:0
TRANSP:OPAQUE
END:VEVENT
END:VCALENDAR