BEGIN:VCALENDAR
VERSION:2.0
PRODID:-//jEvents 2.0 for Joomla//EN
CALSCALE:GREGORIAN
METHOD:PUBLISH
BEGIN:VEVENT
UID:d8cc691f5bacaaa338aaaa0eb844acb7
CATEGORIES:Community Events
CREATED:20260310T154803
SUMMARY:Recycled Rag Pets Craft - Lindsay Branch
LOCATION:Lindsay Library Branch
DESCRIPTION:Craft your own pet using “yarn” made from old t-shirts! Design a unique rag
  pet to take home. All supplies provided. In partnership with City of Kawar
 tha Lakes Waste Management team.\n\nThis program is designed for school-age
 d children.
X-ALT-DESC;FMTTYPE=text/html:Craft your own pet using “yarn” made from old t-shirts! Design a unique rag
  pet to take home. All supplies provided. In partnership with City of Kawar
 tha Lakes Waste Management team.<br /><br />This program is designed for sc
 hool-aged children.
DTSTAMP:20260422T213530
DTSTART:20260316T103000
DTEND:20260316T113000
SEQUENCE:0
TRANSP:OPAQUE
END:VEVENT
END:VCALENDAR