BEGIN:VCALENDAR
VERSION:2.0
PRODID:-//jEvents 2.0 for Joomla//EN
CALSCALE:GREGORIAN
METHOD:PUBLISH
BEGIN:VEVENT
UID:c1564074aa5492dc369cd67740f4ed0f
CATEGORIES:Community Events
CREATED:20260310T162034
SUMMARY:Painted Bag Workshop - Omemee Branch
LOCATION:Omemee Library Branch
DESCRIPTION:Paint your own tote bag - perfect for carrying all of your favourite librar
 y books! Please wear clothes you don’t mind getting messy, as paint will be
  used. All supplies provided.\n\nThis program is designed for school-aged c
 hildren.
X-ALT-DESC;FMTTYPE=text/html:Paint your own tote bag - perfect for carrying all of your favourite librar
 y books! Please wear clothes you don’t mind getting messy, as paint will be
  used. All supplies provided.<br /><br />This program is designed for schoo
 l-aged children.
DTSTAMP:20260423T214548
DTSTART:20260320T103000
DTEND:20260320T113000
SEQUENCE:0
TRANSP:OPAQUE
END:VEVENT
END:VCALENDAR