BEGIN:VCALENDAR
VERSION:2.0
PRODID:-//jEvents 2.0 for Joomla//EN
CALSCALE:GREGORIAN
METHOD:PUBLISH
BEGIN:VEVENT
UID:014c5a5f543745d24f2594a537059b3d
CATEGORIES:Community Events
CREATED:20260310T163125
SUMMARY:Painted Bag Workshop - Oakwood Branch
LOCATION:Oakwood Library Branch
DESCRIPTION:Paint your own tote bag - perfect for carrying all of your favourite librar
 y books! Please wear clothes you don’t mind getting messy, as paint will be
  used. All supplies provided.\n\nThis program is designed for school-aged c
 hildren.
X-ALT-DESC;FMTTYPE=text/html:Paint your own tote bag - perfect for carrying all of your favourite librar
 y books! Please wear clothes you don’t mind getting messy, as paint will be
  used. All supplies provided.<br /><br />This program is designed for schoo
 l-aged children.
DTSTAMP:20260424T010311
DTSTART:20260321T103000
DTEND:20260321T113000
SEQUENCE:0
TRANSP:OPAQUE
END:VEVENT
END:VCALENDAR