BEGIN:VCALENDAR
VERSION:2.0
PRODID:-//jEvents 2.0 for Joomla//EN
CALSCALE:GREGORIAN
METHOD:PUBLISH
BEGIN:VEVENT
UID:abfc1186a578790bd95c0cf0e6cabb8a
CATEGORIES:Community Events
CREATED:20260310T163219
SUMMARY:Glow Jar Lantern Workshop - Bobcaygeon Branch
LOCATION:Bobcaygeon Library branch
DESCRIPTION:Make magical glow-in-the-dark jars to take home and store your favourite su
 pplies or treats! Please wear clothes you don’t mind getting messy, as pain
 t will be used. All supplies provided.\n\nThis program is designed for scho
 ol-aged children. 
X-ALT-DESC;FMTTYPE=text/html:Make magical glow-in-the-dark jars to take home and store your favourite su
 pplies or treats! Please wear clothes you don’t mind getting messy, as pain
 t will be used. All supplies provided.<br /><br />This program is designed 
 for school-aged children. 
DTSTAMP:20260424T010353
DTSTART:20260321T123000
DTEND:20260321T133000
SEQUENCE:0
TRANSP:OPAQUE
END:VEVENT
END:VCALENDAR