BEGIN:VCALENDAR
VERSION:2.0
PRODID:-//jEvents 2.0 for Joomla//EN
CALSCALE:GREGORIAN
METHOD:PUBLISH
BEGIN:VEVENT
UID:f42cc3e22d895e43dec649349cec8c57
CATEGORIES:Community Events
CREATED:20260310T164737
SUMMARY:Beaded Wind Chime Workshop - Lindsay Branch
LOCATION:Lindsay Library Branch
DESCRIPTION:Add some extra jingle and sparkle to your backyard with a handmade beaded w
 ind chime! All supplies provided.\n\nThis program is designed for school-ag
 ed children.
X-ALT-DESC;FMTTYPE=text/html:Add some extra jingle and sparkle to your backyard with a handmade beaded w
 ind chime! All supplies provided.<br /><br />This program is designed for s
 chool-aged children.
DTSTAMP:20260424T010325
DTSTART:20260321T150000
DTEND:20260321T160000
SEQUENCE:0
TRANSP:OPAQUE
END:VEVENT
END:VCALENDAR