BEGIN:VCALENDAR
VERSION:2.0
PRODID:-//jEvents 2.0 for Joomla//EN
CALSCALE:GREGORIAN
METHOD:PUBLISH
BEGIN:VEVENT
UID:ff9f4d4cd93314705b087132ebec192f
CATEGORIES:Community Events
CREATED:20260322T161154
SUMMARY:Kawartha String Orchestra Presents: Annual Free Spring Concert Fundraiser
LOCATION:Thomas A. Stewart Secondary School 1009 Armour Road Peterborough\, ON
DESCRIPTION:The Kawartha String Orchestra (KSO) is pleased to present their annual spri
 ng concert on Sunday May 3 starting at 2pm at Thomas A. Stewart Secondary S
 chool (1009 Armour Road, Peterborough, ON). \n\nThe theme of the concert is
  "Pulse and Precision". Award-winning conductor and music director Tak Kwan
  and the KSO will play selections from Mozart and Bach, as well as Celtic m
 usic. Guest soloists include Tak Kwan (violin) and Foley's Celtic Pub Band.
 \n\nAdmission is free; monetary donations to Big Brothers Big Sisters of Pe
 terborough are gratefully accepted. \n\nFor more information, please visit 
 us at www.kawarthastring.com or email us at This email address is being pro
 tected from spambots. You need JavaScript enabled to view it..\n\n
X-ALT-DESC;FMTTYPE=text/html:The Kawartha String Orchestra (KSO) is pleased to present their annual spri
 ng concert on Sunday May 3 starting at 2pm at Thomas A. Stewart Secondary S
 chool (1009 Armour Road, Peterborough, ON). <br /><br />The theme of the co
 ncert is "Pulse and Precision". Award-winning conductor and music director 
 Tak Kwan and the KSO will play selections from Mozart and Bach, as well as 
 Celtic music. Guest soloists include Tak Kwan (violin) and Foley's Celtic P
 ub Band.<br /><br />Admission is free; monetary donations to Big Brothers B
 ig Sisters of Peterborough are gratefully accepted. <br /><br />For more in
 formation, please visit us at www.kawarthastring.com or email us at <joomla
 -hidden-mail  is-link="1" is-email="1" first="a2F3YXJ0aGFzdHJpbmc=" last="Z
 21haWwuY29t" text="a2F3YXJ0aGFzdHJpbmdAZ21haWwuY29t" base="" >This email ad
 dress is being protected from spambots. You need JavaScript enabled to view
  it.</joomla-hidden-mail>.<br /><br />
CONTACT:Kawartha String Orchestra
DTSTAMP:20260422T083428
DTSTART:20260503T140000
DTEND:20260503T160000
SEQUENCE:0
TRANSP:OPAQUE
END:VEVENT
END:VCALENDAR