BEGIN:VCALENDAR
VERSION:2.0
PRODID:-//jEvents 2.0 for Joomla//EN
CALSCALE:GREGORIAN
METHOD:PUBLISH
BEGIN:VEVENT
UID:88212b6e754b52208ac36830a90be3a7
CATEGORIES:Community Events
CREATED:20260331T180954
SUMMARY:Scoop Up Knowledge - Ice Cream Sundae Guide to Autism
LOCATION:Fieldside Yoga and Retreats
DESCRIPTION:This seminar will review the diagnostic criteria for Autism Spectrum Disord
 er and explore how autism may present in children across different environm
 ents. Inspired by the ideas presented in The Ice-Crem Sundae Guide to Autis
 m by Debby Elley and Tori Houghton, the presentation aims to increase under
 standing of neurodiversity and provide practical strategies to help parents
  and caregivers better support autistic children and youth and their unique
  strengths and needs.\n\n$15 per person  - Preregistration through EventBri
 te\n\nSponsored by Wendy Kelly Psychology and Growing Minds \n
X-ALT-DESC;FMTTYPE=text/html:This seminar will review the diagnostic criteria for Autism Spectrum Disord
 er and explore how autism may present in children across different environm
 ents. Inspired by the ideas presented in The Ice-Crem Sundae Guide to Autis
 m by Debby Elley and Tori Houghton, the presentation aims to increase under
 standing of neurodiversity and provide practical strategies to help parents
  and caregivers better support autistic children and youth and their unique
  strengths and needs.<br /><br />$15 per person  - Preregistration through 
 EventBrite<br /><br />Sponsored by Wendy Kelly Psychology and Growing Minds
  <br />
DTSTAMP:20260422T101159
DTSTART:20260414T190000
DTEND:20260414T210000
SEQUENCE:0
TRANSP:OPAQUE
END:VEVENT
END:VCALENDAR