BEGIN:VCALENDAR
VERSION:2.0
PRODID:-//jEvents 2.0 for Joomla//EN
CALSCALE:GREGORIAN
METHOD:PUBLISH
BEGIN:VEVENT
UID:99f47e4ab17620c22747cf83b7f6bb64
CATEGORIES:Community Events
CREATED:20260402T144343
SUMMARY:Cutting Through the AI Noise: What's Actually Driving Impact
LOCATION:Zoom
DESCRIPTION:Join leaders from AI-Innovate, Durham College, Fleming College and the Onta
 rio Centre of Innovation (OCI) for a focused conversation on how AI is actu
 ally being implemented across industries today.\n\n​This panel brings toget
 her perspectives from industry, applied research, and academia to move beyo
 nd the hype and into real-world execution.\n\n​From enterprise environments
  to applied research labs, these organizations are working directly with bu
 sinesses to design, test, and deploy AI solutions that drive measurable res
 ults.\n\n​The session will explore:\n\n​Where AI is delivering real operati
 onal value\n\n​What successful implementation actually requires\n\n​Common 
 pitfalls and overhyped expectations\n\n​How to evaluate ROI and organizatio
 nal readiness\n\n​The goal is to provide clarity and actionable insight for
  decision-makers considering AI adoption.\n\nRegister at: https://luma.com/
 5l2yn58y
X-ALT-DESC;FMTTYPE=text/html:Join leaders from AI-Innovate, Durham College, Fleming College and the Onta
 rio Centre of Innovation (OCI) for a focused conversation on how AI is actu
 ally being implemented across industries today.<br /><br />​This panel brin
 gs together perspectives from industry, applied research, and academia to m
 ove beyond the hype and into real-world execution.<br /><br />​From enterpr
 ise environments to applied research labs, these organizations are working 
 directly with businesses to design, test, and deploy AI solutions that driv
 e measurable results.<br /><br />​The session will explore:<br /><br />​Whe
 re AI is delivering real operational value<br /><br />​What successful impl
 ementation actually requires<br /><br />​Common pitfalls and overhyped expe
 ctations<br /><br />​How to evaluate ROI and organizational readiness<br />
 <br />​The goal is to provide clarity and actionable insight for decision-m
 akers considering AI adoption.<br /><br />Register at: https://luma.com/5l2
 yn58y
CONTACT:This email address is being protected from spambots. You need JavaScript enabled to view it.
X-EXTRAINFO:Register at: https://luma.com/5l2yn58y
DTSTAMP:20260422T083618
DTSTART:20260514T110000
DTEND:20260514T123000
SEQUENCE:0
TRANSP:OPAQUE
END:VEVENT
END:VCALENDAR