BEGIN:VCALENDAR
VERSION:2.0
PRODID:-//jEvents 2.0 for Joomla//EN
CALSCALE:GREGORIAN
METHOD:PUBLISH
BEGIN:VEVENT
UID:e1dbbe1b980eb4b46f41b770dc27bbe5
CATEGORIES:Community Events
CREATED:20260407T213838
SUMMARY:Square Dancing Fundraiser
LOCATION:The Social Pub
DESCRIPTION:Enjoy an evening of live music, dancing, raffle prizes and community connec
 tions! Join us at the Social Pub for square dancing with live music and ins
 truction to help support the Peterborough Athletes of the Ladies Gaelic Foo
 tball Association as they raise money to travel to Ireland to compete with 
 Canada Team 2 at the 2026 GAA World Games!\n\nDate: April 10, 2026\nTime: 8
 :00-10:00pm\nLocation: The Social Pub (295 George St N, Peterborough, ON K9
 J 3H3)\nCost: $15 admission at the door\n\nAll funds raised directly suppor
 t the 6 local athletes headed to Ireland in July!
X-ALT-DESC;FMTTYPE=text/html:Enjoy an evening of live music, dancing, raffle prizes and community connec
 tions! Join us at the Social Pub for square dancing with live music and ins
 truction to help support the Peterborough Athletes of the Ladies Gaelic Foo
 tball Association as they raise money to travel to Ireland to compete with 
 Canada Team 2 at the 2026 GAA World Games!<br /><br />Date: April 10, 2026<
 br />Time: 8:00-10:00pm<br />Location: The Social Pub (295 George St N, Pet
 erborough, ON K9J 3H3)<br />Cost: $15 admission at the door<br /><br />All 
 funds raised directly support the 6 local athletes headed to Ireland in Jul
 y!
CONTACT:Michelle Schevers
DTSTAMP:20260422T101335
DTSTART:20260410T200000
DTEND:20260410T220000
SEQUENCE:0
TRANSP:OPAQUE
END:VEVENT
END:VCALENDAR