BEGIN:VCALENDAR
VERSION:2.0
PRODID:-//jEvents 2.0 for Joomla//EN
CALSCALE:GREGORIAN
METHOD:PUBLISH
BEGIN:VEVENT
UID:b60ec92cb298195dd830aefc0680b515
CATEGORIES:Community Events
CREATED:20260410T221833
SUMMARY:Fenelon Falls Grannies15th Annual Musicathon
LOCATION:St\, James Anglican Church\, 8 Bond St. W\, Fenelon Falls
DESCRIPTION:Fenelon Falls Grannies for Grannies are excited to present our 15th annual 
 Musicathon; an all day extravaganza of exciting and musical performances, f
 rom African drumming, choir, interactive line dance, folk pop and rock, to 
 name a few.  This is our annual fundraiser with proceeds to The Stephen Lew
 is foundation, Grandmothers in Africa campaign, in support of ongoing AIDS 
 treatment and education to children and young adults in subSaharan African 
 countries, and to grandmothers who are raising their orphaned grandchildren
 .   Admission by donation with tax receipts for $20 or more.  Lunch and ref
 reshments available.\n\n
X-ALT-DESC;FMTTYPE=text/html:Fenelon Falls Grannies for Grannies are excited to present our 15th annual 
 Musicathon; an all day extravaganza of exciting and musical performances, f
 rom African drumming, choir, interactive line dance, folk pop and rock, to 
 name a few.  This is our annual fundraiser with proceeds to The Stephen Lew
 is foundation, Grandmothers in Africa campaign, in support of ongoing AIDS 
 treatment and education to children and young adults in subSaharan African 
 countries, and to grandmothers who are raising their orphaned grandchildren
 .   Admission by donation with tax receipts for $20 or more.  Lunch and ref
 reshments available.<br /><br />
CONTACT:Judy Kennedy
DTSTAMP:20260422T100921
DTSTART:20260411T110000
DTEND:20260411T170000
SEQUENCE:0
TRANSP:OPAQUE
END:VEVENT
END:VCALENDAR