BEGIN:VCALENDAR
VERSION:2.0
PRODID:-//jEvents 2.0 for Joomla//EN
CALSCALE:GREGORIAN
METHOD:PUBLISH
BEGIN:VEVENT
UID:8692ecb7274154e454c1a006978d0713
CATEGORIES:Community Events
CREATED:20260411T061314
SUMMARY:RE:Connect 
LOCATION:Morrow Building
DESCRIPTION:Run by Steve Paul, RE:Connect is back again for a spring event. \n\nClean U
 p Peterborough is pleased to share final updates as RE:Connect returns to t
 he Morrow Building on April 15th, now just one week away.\nWith 20 exhibito
 rs confirmed, this free, family-friendly event continues to grow as Peterbo
 rough’s Circular Economy Celebration and Learning Event — bringing together
  local organizations, makers, and sustainability leaders for a full day of 
 reuse, creativity, and community connection.\n\nSince the initial announcem
 ent, several new additions have been finalized:\n\nNew Workshop: Junk Drawe
 r Organizing (12–4 PM)\nLed by Jigsaw Organizing Solutions, this hands-on e
 xperience invites attendees to bring a drawer of household items and transf
 orm it into a functional, organized space using upcycled materials provided
  on site.\n\nCommunity Support Through Sponsorship\nRE:Connect has been mad
 e possible in part through the support of five local sponsors helping to ke
 ep the event free and accessible for the community. Sponsors have been feat
 ured across Clean Up Peterborough’s social media channels in recent weeks, 
 highlighting the local businesses and organizations helping bring RE:Connec
 t to life.\n\nAttendees can also look forward to:\n\nThe Great Peterborough
  Clothing Swap\nRE:Create Art Contest showcase\nJigsaw Junction Community P
 uzzle Exchange\nFree reuse and hard-to-recycle community collections\nLocal
  vendors, vintage sellers, and upcyclers\nDemonstrations and hands-on learn
 ing opportunities\nA full exhibitor schedule will be released in the coming
  days.\n\nRE:Connect runs April 15 from 11 a.m. to 7 p.m. at the Morrow Bui
 lding. Admission is free, and all are welcome.
X-ALT-DESC;FMTTYPE=text/html:Run by Steve Paul, RE:Connect is back again for a spring event. <br /><br /
 >Clean Up Peterborough is pleased to share final updates as RE:Connect retu
 rns to the Morrow Building on April 15th, now just one week away.<br />With
  20 exhibitors confirmed, this free, family-friendly event continues to gro
 w as Peterborough’s Circular Economy Celebration and Learning Event — bring
 ing together local organizations, makers, and sustainability leaders for a 
 full day of reuse, creativity, and community connection.<br /><br />Since t
 he initial announcement, several new additions have been finalized:<br /><b
 r />New Workshop: Junk Drawer Organizing (12–4 PM)<br />Led by Jigsaw Organ
 izing Solutions, this hands-on experience invites attendees to bring a draw
 er of household items and transform it into a functional, organized space u
 sing upcycled materials provided on site.<br /><br />Community Support Thro
 ugh Sponsorship<br />RE:Connect has been made possible in part through the 
 support of five local sponsors helping to keep the event free and accessibl
 e for the community. Sponsors have been featured across Clean Up Peterborou
 gh’s social media channels in recent weeks, highlighting the local business
 es and organizations helping bring RE:Connect to life.<br /><br />Attendees
  can also look forward to:<br /><br />The Great Peterborough Clothing Swap<
 br />RE:Create Art Contest showcase<br />Jigsaw Junction Community Puzzle E
 xchange<br />Free reuse and hard-to-recycle community collections<br />Loca
 l vendors, vintage sellers, and upcyclers<br />Demonstrations and hands-on 
 learning opportunities<br />A full exhibitor schedule will be released in t
 he coming days.<br /><br />RE:Connect runs April 15 from 11 a.m. to 7 p.m. 
 at the Morrow Building. Admission is free, and all are welcome.
CONTACT:Steve Paul: This email address is being protected from spambots. You need JavaScript enabled to view it.
DTSTAMP:20260422T232256
DTSTART:20260415T110000
DTEND:20260415T190000
SEQUENCE:0
TRANSP:OPAQUE
END:VEVENT
END:VCALENDAR