BEGIN:VCALENDAR
VERSION:2.0
PRODID:-//jEvents 2.0 for Joomla//EN
CALSCALE:GREGORIAN
METHOD:PUBLISH
BEGIN:VEVENT
UID:1dc368ec77f0857631107ff8ad1bd8f8
CATEGORIES:Community Events
CREATED:20260412T124747
SUMMARY:An Evening of Songs & Local Stories with Matt Kydd
LOCATION:Omemee Legion
DESCRIPTION:The Omemee Community Fund is looking forward to an evening of live music an
 d local stories with local singer-songwriter Matt Kydd, as he brings the st
 ories and spirit of the Kawarthas to life through song.\n\nThis special eve
 nt is in support of the Omemee Community Fund’s Splash Pad Initiative, help
 ing create a vibrant, accessible outdoor space for local children and famil
 ies to enjoy for years to come. 100% of all ticket sales go to the Omemee S
 plash Pad Fundraising Campaign,\n\nBlending acoustic guitar, harmonica, and
  heartfelt storytelling, Matt’s performance offers a relaxed and welcoming 
 atmosphere—perfect for a night out in the community while supporting a mean
 ingful local project.\n\nCome enjoy great music, connect with friends and n
 eighbours, and be part of building something special for Omemee.\n\nThe Leg
 ion bar will be open.\nLight snacks provided by the Omemee Swans available 
 for purchase.\n\n📍 Omemee Legion\n📅 Saturday, May 23\n⏰ 6:30 PM – 8:30 PM\n
 $10 per person\n\nVisit www.ocfevents.ca to ensure you have a seat before t
 hey sell out.\n
X-ALT-DESC;FMTTYPE=text/html:The Omemee Community Fund is looking forward to an evening of live music an
 d local stories with local singer-songwriter Matt Kydd, as he brings the st
 ories and spirit of the Kawarthas to life through song.<br /><br />This spe
 cial event is in support of the Omemee Community Fund’s Splash Pad Initiati
 ve, helping create a vibrant, accessible outdoor space for local children a
 nd families to enjoy for years to come. 100% of all ticket sales go to the 
 Omemee Splash Pad Fundraising Campaign,<br /><br />Blending acoustic guitar
 , harmonica, and heartfelt storytelling, Matt’s performance offers a relaxe
 d and welcoming atmosphere—perfect for a night out in the community while s
 upporting a meaningful local project.<br /><br />Come enjoy great music, co
 nnect with friends and neighbours, and be part of building something specia
 l for Omemee.<br /><br />The Legion bar will be open.<br />Light snacks pro
 vided by the Omemee Swans available for purchase.<br /><br />📍 Omemee Legio
 n<br />📅 Saturday, May 23<br />⏰ 6:30 PM – 8:30 PM<br />$10 per person<br /
 ><br />Visit www.ocfevents.ca to ensure you have a seat before they sell ou
 t.<br />
CONTACT:This email address is being protected from spambots. You need JavaScript enabled to view it.
X-EXTRAINFO:Visit www.ocfevents.ca to ensure you have a seat before they sell out.\n\n$
 10/person
DTSTAMP:20260422T181644
DTSTART:20260523T183000
DTEND:20260523T203000
SEQUENCE:0
TRANSP:OPAQUE
END:VEVENT
END:VCALENDAR