BEGIN:VCALENDAR
VERSION:2.0
PRODID:-//jEvents 2.0 for Joomla//EN
CALSCALE:GREGORIAN
METHOD:PUBLISH
BEGIN:VEVENT
UID:b266f73a0c7f84cd24402c802959f17b
CATEGORIES:Community Events
CREATED:20260413T190806
SUMMARY:LINDSAY AUTOMOTIVE FLEA MARKET & CAR SHOW
LOCATION:Lindsay Fairgrounds / 354 Angeline St S\, Lindsay ON
DESCRIPTION:LINDSAY AUTOMOTIVE FLEA MARKET &amp; VINTAGE CAR SHOW\n​Held at the Lindsay
  Fairgrounds on MAY 23 &amp; 24, 2026,  this exciting weekend brings togeth
 er auto enthusiasts, collectors, vendors and families for one of the larges
 t automotive swap meets in the region!\n\nADMISSION: $10 per Person  - Kids
  under 12 - FREE!\n\nEvent Highlights:\nAutomotive Flea Market\nClassic and
  Antique Car Show\nCar Sales Corral\nOver 500 Vendors\nFood Vendors and Ref
 reshments\nFamily Friendly Atmosphere\nCamping Available
X-ALT-DESC;FMTTYPE=text/html:LINDSAY AUTOMOTIVE FLEA MARKET & VINTAGE CAR SHOW<br />​Held at the Lindsay
  Fairgrounds on MAY 23 & 24, 2026,  this exciting weekend brings together a
 uto enthusiasts, collectors, vendors and families for one of the largest au
 tomotive swap meets in the region!<br /><br />ADMISSION: $10 per Person  - 
 Kids under 12 - FREE!<br /><br />Event Highlights:<br />Automotive Flea Mar
 ket<br />Classic and Antique Car Show<br />Car Sales Corral<br />Over 500 V
 endors<br />Food Vendors and Refreshments<br />Family Friendly Atmosphere<b
 r />Camping Available
CONTACT:705-799-5095 (Hosted by Omemee Legion)
DTSTAMP:20260422T115913
DTSTART:20260523T080000
DTEND:20260524T170000
SEQUENCE:0
TRANSP:OPAQUE
END:VEVENT
END:VCALENDAR