BEGIN:VCALENDAR
VERSION:2.0
PRODID:-//jEvents 2.0 for Joomla//EN
CALSCALE:GREGORIAN
METHOD:PUBLISH
BEGIN:VEVENT
UID:6383e3e475d9ce495cc7a225a26aa35d
CATEGORIES:Community Events
CREATED:20260414T034438
SUMMARY:St. Paul's SPRING THAW Dinner & Auction Aug. 25
LOCATION:St. Paul's Anglican Church\, Lindsay
DESCRIPTION:Get your tickets for our Spring Thaw Dinner and Loonie &amp; Silent Auction
 s!\n- Sat. April 25th:  doors open at 5:30pm for dinner at 6:30pm\n- advanc
 ed tickets only\n- delicious dinner\n- lots of items to bid on for both Auc
 tions\n- tickets $40 per person\nCall St. Paul's Church for more informatio
 n:  705 324-4666
X-ALT-DESC;FMTTYPE=text/html:Get your tickets for our Spring Thaw Dinner and Loonie & Silent Auctions!<b
 r />- Sat. April 25th:  doors open at 5:30pm for dinner at 6:30pm<br />- ad
 vanced tickets only<br />- delicious dinner<br />- lots of items to bid on 
 for both Auctions<br />- tickets $40 per person<br />Call St. Paul's Church
  for more information:  705 324-4666
CONTACT:Linda Todd (705) 324-7439
DTSTAMP:20260422T083302
DTSTART:20260425T173000
DTEND:20260425T210000
SEQUENCE:0
TRANSP:OPAQUE
END:VEVENT
END:VCALENDAR