BEGIN:VCALENDAR
VERSION:2.0
PRODID:-//jEvents 2.0 for Joomla//EN
CALSCALE:GREGORIAN
METHOD:PUBLISH
BEGIN:VEVENT
UID:4e2c35785728a61c977d01442892ece5
CATEGORIES:Community Events
CREATED:20260415T001008
SUMMARY:Just For Mom Extravaganza
LOCATION:Victoria Park Armoury\, Lindsay\, ON
DESCRIPTION:Celebrating Mom! Lindsay, Ontario at the Victoria Park Armoury! \n\nCome ou
 t and have a day experience of shopping and socializing! For 1 day only Sat
 urday May 9th. If you’re looking for something fun to do with mom or even m
 oms to be, this is the place to be with mom!\nAdmission $2 for shopping!\nD
 oor prizes\nLots of unique vendors\nLunch Canteen available\nDoor opens at 
 10am
X-ALT-DESC;FMTTYPE=text/html:Celebrating Mom! Lindsay, Ontario at the Victoria Park Armoury! <br /><br /
 >Come out and have a day experience of shopping and socializing! For 1 day 
 only Saturday May 9th. If you’re looking for something fun to do with mom o
 r even moms to be, this is the place to be with mom!<br />Admission $2 for 
 shopping!<br />Door prizes<br />Lots of unique vendors<br />Lunch Canteen a
 vailable<br />Door opens at 10am
CONTACT:Laurie Swenor
X-EXTRAINFO:This email address is being protected from spambots. You need JavaScript en
 abled to view it.
DTSTAMP:20260422T083447
DTSTART:20260509T100000
DTEND:20260509T150000
SEQUENCE:0
TRANSP:OPAQUE
END:VEVENT
END:VCALENDAR