BEGIN:VCALENDAR
VERSION:2.0
PRODID:-//jEvents 2.0 for Joomla//EN
CALSCALE:GREGORIAN
METHOD:PUBLISH
BEGIN:VEVENT
UID:f335c5ef673b57bbfed9422e963be134
CATEGORIES:Community Events
CREATED:20260416T183715
SUMMARY:Botanical Cast Demonstration featuring artist Rebecca Fortin.
LOCATION:36 Colborne Street\, Fenelon Falls\, Ontario
DESCRIPTION:Rebecca Fortin will demonstrate how fresh, sustainably grown, and ethically
  wildcrafted plants are pressed into wet clay and cast in plaster to captur
 e their delicate, lifelike textures. She will also share her process for fi
 nishing each piece using natural dyes, which she hand-prepares from botanic
 als grown in her garden or sustainably sourced in the wild. \n\nSaturday Ma
 y 2, at 3:00 pm\nColborne Street Gallery, 36 Colborne Street, Fenelon Falls
 , Ontario. \n\nADMISSION IS FREE!  Light refreshments will be served, and a
  selection of Rebecca’s botanical casts will be available for purchase.
X-ALT-DESC;FMTTYPE=text/html:Rebecca Fortin will demonstrate how fresh, sustainably grown, and ethically
  wildcrafted plants are pressed into wet clay and cast in plaster to captur
 e their delicate, lifelike textures. She will also share her process for fi
 nishing each piece using natural dyes, which she hand-prepares from botanic
 als grown in her garden or sustainably sourced in the wild. <br /><br />Sat
 urday May 2, at 3:00 pm<br />Colborne Street Gallery, 36 Colborne Street, F
 enelon Falls, Ontario. <br /><br />ADMISSION IS FREE!  Light refreshments w
 ill be served, and a selection of Rebecca’s botanical casts will be availab
 le for purchase.
CONTACT:This email address is being protected from spambots. You need JavaScript enabled to view it.
X-EXTRAINFO:ADMISSION IS FREE!  Light refreshments will be served, and a selection of R
 ebecca’s botanical casts will be available for purchase.
DTSTAMP:20260422T083628
DTSTART:20260502T150000
DTEND:20260502T180000
SEQUENCE:0
TRANSP:OPAQUE
END:VEVENT
END:VCALENDAR