BEGIN:VCALENDAR
VERSION:2.0
PRODID:-//jEvents 2.0 for Joomla//EN
CALSCALE:GREGORIAN
METHOD:PUBLISH
BEGIN:VEVENT
UID:46a35eb940ee5e4eaac896940b5cbcc8
CATEGORIES:Community Events
CREATED:20260416T190857
SUMMARY:Globus Theatre presents Girls Nite Out 20
LOCATION:Globus Theatre (2300 Pigeon Lake Road\, Bobcaygeon ON)
DESCRIPTION:Girls Nite Out kicks off the Globus 2026 Season!\n\nCome see the show that 
 originated here 20 years ago and has since toured across Canada to great ac
 claim! An all female, all funny stand-up and improv comedy ensemble featuri
 ng CBC darlings and Canadian Comedy Award Winners. These fabulous ladies de
 liver unstoppable laughter to sold out audiences wherever they go, so don't
  miss this opportunity to grab the girlfriends and come for a giggle!\n\nJo
 in us for dinner beforehand or just come for the show! (Reservations requir
 ed)\n\nCall the Box Office for tickets: (705) 738-2037 or 1-800-304-7897 OR
  order online: https://www.globustheatre.com/shows-all/girls-nite-out-20
X-ALT-DESC;FMTTYPE=text/html:Girls Nite Out kicks off the Globus 2026 Season!<br /><br />Come see the sh
 ow that originated here 20 years ago and has since toured across Canada to 
 great acclaim! An all female, all funny stand-up and improv comedy ensemble
  featuring CBC darlings and Canadian Comedy Award Winners. These fabulous l
 adies deliver unstoppable laughter to sold out audiences wherever they go, 
 so don't miss this opportunity to grab the girlfriends and come for a giggl
 e!<br /><br />Join us for dinner beforehand or just come for the show! (Res
 ervations required)<br /><br />Call the Box Office for tickets: (705) 738-2
 037 or 1-800-304-7897 OR order online: https://www.globustheatre.com/shows-
 all/girls-nite-out-20
CONTACT:(705) 738-2037 / This email address is being protected from spambots. You need JavaScript enabled to view it.
DTSTAMP:20260420T131635
DTSTART:20260508T200000
SEQUENCE:0
TRANSP:OPAQUE
END:VEVENT
END:VCALENDAR