BEGIN:VCALENDAR
VERSION:2.0
PRODID:-//jEvents 2.0 for Joomla//EN
CALSCALE:GREGORIAN
METHOD:PUBLISH
BEGIN:VEVENT
UID:3645a41ddbab8e1ad56fcb05d8192aec
CATEGORIES:Community Events
CREATED:20260416T191650
SUMMARY:Globus Theatre presents Get Down Tonight
LOCATION:Globus Theatre (2300 Pigeon Lake Road\, Bobcaygeon ON)
DESCRIPTION:Get Down Tonight starring Leisa Way and the Wayward Wind Band\n\nFrom the g
 littering dance floors of disco, to the coffee houses of folk, to the class
 ic anthems of rock, Leisa &amp; her powerhouse band light up the stage in t
 his electrifying concert featuring hits from The Eagles, Led Zepelin, Fleet
 wood Mac, James Taylor, ABBA, Carole King, Elton John, The Bee Gees, The Ro
 lling Stones, Stevie Wonder, Creedance Clearwater Revival, Joni Mitchell, M
 arvin Gaye, Carly Simon and many more of your all-time favourite artists. W
 hether you're a dancing queen, or a rock-and-roll rebel, grab your sequins,
  warm up your hustle, and get ready to..... SHAKE YOUR GROOVE THING!\n\nA l
 ive concert celebration of the 70's - a decade that defined a generation!\n
 \nJoin us for dinner beforehand or just come for the show! (Reservations re
 quired)\n\nShowtimes are as follows:\n- Tuesday, May 26 8:00 pm - 10:00 pm\
 n- Wednesday, May 27 2:00 pm - 4:00 pm\n- Thursday, May 28 2:00 pm - 4:00 p
 m\n- Thursday, May 28 8:00 pm - 10:00 pm\n- Friday, May 29 8:00 pm - 10:00 
 pm\n- Saturday, May 30 2:00 pm - 4:00 pm\n- Saturday, May 30 8:00 pm - 10:0
 0 pm\n\nCall the Box Office for tickets: (705) 738-2037 or 1-800-304-7897 O
 R order online: https://www.globustheatre.com/shows-all/get-down-tonight\n\
 nGroup Rates Available.
X-ALT-DESC;FMTTYPE=text/html:Get Down Tonight starring Leisa Way and the Wayward Wind Band<br /><br />Fr
 om the glittering dance floors of disco, to the coffee houses of folk, to t
 he classic anthems of rock, Leisa & her powerhouse band light up the stage 
 in this electrifying concert featuring hits from The Eagles, Led Zepelin, F
 leetwood Mac, James Taylor, ABBA, Carole King, Elton John, The Bee Gees, Th
 e Rolling Stones, Stevie Wonder, Creedance Clearwater Revival, Joni Mitchel
 l, Marvin Gaye, Carly Simon and many more of your all-time favourite artist
 s. Whether you're a dancing queen, or a rock-and-roll rebel, grab your sequ
 ins, warm up your hustle, and get ready to..... SHAKE YOUR GROOVE THING!<br
  /><br />A live concert celebration of the 70's - a decade that defined a g
 eneration!<br /><br />Join us for dinner beforehand or just come for the sh
 ow! (Reservations required)<br /><br />Showtimes are as follows:<br />- Tue
 sday, May 26 8:00 pm - 10:00 pm<br />- Wednesday, May 27 2:00 pm - 4:00 pm<
 br />- Thursday, May 28 2:00 pm - 4:00 pm<br />- Thursday, May 28 8:00 pm -
  10:00 pm<br />- Friday, May 29 8:00 pm - 10:00 pm<br />- Saturday, May 30 
 2:00 pm - 4:00 pm<br />- Saturday, May 30 8:00 pm - 10:00 pm<br /><br />Cal
 l the Box Office for tickets: (705) 738-2037 or 1-800-304-7897 OR order onl
 ine: https://www.globustheatre.com/shows-all/get-down-tonight<br /><br />Gr
 oup Rates Available.
CONTACT:(705) 738-2037 / This email address is being protected from spambots. You need JavaScript enabled to view it.
DTSTAMP:20260422T134026
DTSTART:20260526T200000
DTEND;VALUE=DATE:20260531
SEQUENCE:0
TRANSP:OPAQUE
END:VEVENT
END:VCALENDAR