BEGIN:VCALENDAR
VERSION:2.0
PRODID:-//jEvents 2.0 for Joomla//EN
CALSCALE:GREGORIAN
METHOD:PUBLISH
BEGIN:VEVENT
UID:3ea35b68cc55903c2d1cbbc7d658b16f
CATEGORIES:Community Events
CREATED:20260416T193047
SUMMARY:Globus Theatre presents Murder at the Match: World Cup Edition
LOCATION:Globus Theatre (2300 Pigeon Lake Road\, Bobcaygeon ON)
DESCRIPTION:The 2026 World Cup—an electrifying, history-making tournament spanning Cana
 da, the United States, and Mexico— should be a celebration of unity, talent
 , and the beloved sport. But with scheming managers, spotlight-hungry influ
 encers, over-pressured superstars, and sports officials juggling internatio
 nal egos, the hunt for goals and glory quickly spirals into red-card-worthy
  disaster. When one key player doesn’t make it to kickoff, suspicion erupts
  across three countries.  Suddenly, every border crossing hides a clue, and
  every match hides a motive. One thing is clear: someone wants to take the 
 trophy… by eliminating the competition.\n\nAn interactive dinner theatre mu
 rder mystery experience.\n\nShowtimes are as follows:\n- Thursday, June 25,
  6:30pm - 9:30pm\n- Friday, June 26, 6:30pm - 9:30pm\n- Saturday, June 27, 
 12:30pm - 3:30pm\n- Saturday, June 27, 6:30pm - 9:30pm\n- Thursday, July 2,
  6:30pm - 9:30pm\n- Friday, July 3, 6:30pm - 9:30pm\n- Saturday, July 4, 6:
 30pm - 9:30pm\n\nCall the Box Office for tickets: (705) 738-2037 or 1-800-3
 04-7897 OR order online: https://www.globustheatre.com/shows-all/murder-at-
 the-match-world-cup-edition\n\nGroup Rates Available.
X-ALT-DESC;FMTTYPE=text/html:The 2026 World Cup—an electrifying, history-making tournament spanning Cana
 da, the United States, and Mexico— should be a celebration of unity, talent
 , and the beloved sport. But with scheming managers, spotlight-hungry influ
 encers, over-pressured superstars, and sports officials juggling internatio
 nal egos, the hunt for goals and glory quickly spirals into red-card-worthy
  disaster. When one key player doesn’t make it to kickoff, suspicion erupts
  across three countries.  Suddenly, every border crossing hides a clue, and
  every match hides a motive. One thing is clear: someone wants to take the 
 trophy… by eliminating the competition.<br /><br />An interactive dinner th
 eatre murder mystery experience.<br /><br />Showtimes are as follows:<br />
 - Thursday, June 25, 6:30pm - 9:30pm<br />- Friday, June 26, 6:30pm - 9:30p
 m<br />- Saturday, June 27, 12:30pm - 3:30pm<br />- Saturday, June 27, 6:30
 pm - 9:30pm<br />- Thursday, July 2, 6:30pm - 9:30pm<br />- Friday, July 3,
  6:30pm - 9:30pm<br />- Saturday, July 4, 6:30pm - 9:30pm<br /><br />Call t
 he Box Office for tickets: (705) 738-2037 or 1-800-304-7897 OR order online
 : https://www.globustheatre.com/shows-all/murder-at-the-match-world-cup-edi
 tion<br /><br />Group Rates Available.
CONTACT:(705) 738-2037 / This email address is being protected from spambots. You need JavaScript enabled to view it.
X-EXTRAINFO:Learn more about us and our 2026 Season here: https://www.globustheatre.com
 /
DTSTAMP:20260422T154218
DTSTART:20260702T183000
DTEND;VALUE=DATE:20260705
SEQUENCE:0
TRANSP:OPAQUE
END:VEVENT
END:VCALENDAR