BEGIN:VCALENDAR
VERSION:2.0
PRODID:-//jEvents 2.0 for Joomla//EN
CALSCALE:GREGORIAN
METHOD:PUBLISH
BEGIN:VEVENT
UID:48dbb3afe06b0492da704cd199a31315
CATEGORIES:Community Events
CREATED:20260416T193355
SUMMARY:Globus Theatre presents Sore Losers
LOCATION:Globus Theatre (2300 Pigeon Lake Road\, Bobcaygeon ON)
DESCRIPTION:A new Canadian comedy about bowling you won’t want to miss!\n\nBurt and his
  niece Angie run the family bowling alley, a beloved relic now facing finan
 cial ruin from the sleek, modern Galaxy Bowl. Unlike their famously success
 ful fathers—who were once champions—Burt and his lifelong friend Jim have n
 ever won. Anything. Ever. Desperate to save their business and their pride,
  Jim cooks up an outrageous plan: win the Provincial Championship. Their la
 st-ditch effort hinges on recruiting the town's earnest, but clueless, new 
 dentist. This ragtag team must now rally for a hilarious, high-stakes battl
 e to finally get a win.\n\nJoin us for dinner beforehand or just come for t
 he show! (Reservations required)\n\nShowtimes are as follows:\n- Wednesday,
  July 15, 2026 8:00 pm - 10:00 pm\n- Thursday, July 16, 2026 8:00 pm - 10:0
 0 pm\n- Friday, July 17, 2026 8:00 pm - 10:00 pm\n- Saturday, July 18, 2026
  2:00 pm - 4:00 pm\n- Saturday, July 18, 2026 8:00 pm - 10:00 pm\n- Wednesd
 ay, July 22, 2026 8:00 pm - 10:00 pm\n- Thursday, July 23, 2026 2:00 pm - 4
 :00 pm\n- Thursday, July 23, 2026 8:00 pm - 10:00 pm\n- Friday, July 24, 20
 26 8:00 pm - 10:00 pm\n- Saturday, July 25, 2026 8:00 pm - 10:00 pm\n\nCall
  the Box Office for tickets: (705) 738-2037 or 1-800-304-7897 OR order onli
 ne: https://www.globustheatre.com/shows-all/sore-losers\n\nGroup Rates Avai
 lable.
X-ALT-DESC;FMTTYPE=text/html:A new Canadian comedy about bowling you won’t want to miss!<br /><br />Burt
  and his niece Angie run the family bowling alley, a beloved relic now faci
 ng financial ruin from the sleek, modern Galaxy Bowl. Unlike their famously
  successful fathers—who were once champions—Burt and his lifelong friend Ji
 m have never won. Anything. Ever. Desperate to save their business and thei
 r pride, Jim cooks up an outrageous plan: win the Provincial Championship. 
 Their last-ditch effort hinges on recruiting the town's earnest, but cluele
 ss, new dentist. This ragtag team must now rally for a hilarious, high-stak
 es battle to finally get a win.<br /><br />Join us for dinner beforehand or
  just come for the show! (Reservations required)<br /><br />Showtimes are a
 s follows:<br />- Wednesday, July 15, 2026 8:00 pm - 10:00 pm<br />- Thursd
 ay, July 16, 2026 8:00 pm - 10:00 pm<br />- Friday, July 17, 2026 8:00 pm -
  10:00 pm<br />- Saturday, July 18, 2026 2:00 pm - 4:00 pm<br />- Saturday,
  July 18, 2026 8:00 pm - 10:00 pm<br />- Wednesday, July 22, 2026 8:00 pm -
  10:00 pm<br />- Thursday, July 23, 2026 2:00 pm - 4:00 pm<br />- Thursday,
  July 23, 2026 8:00 pm - 10:00 pm<br />- Friday, July 24, 2026 8:00 pm - 10
 :00 pm<br />- Saturday, July 25, 2026 8:00 pm - 10:00 pm<br /><br />Call th
 e Box Office for tickets: (705) 738-2037 or 1-800-304-7897 OR order online:
  https://www.globustheatre.com/shows-all/sore-losers<br /><br />Group Rates
  Available.
CONTACT:(705) 738-2037 / This email address is being protected from spambots. You need JavaScript enabled to view it.
X-EXTRAINFO:Learn more about us and our 2026 Season here: https://www.globustheatre.com
 /
DTSTAMP:20260422T154429
DTSTART:20260715T200000
DTEND;VALUE=DATE:20260719
SEQUENCE:0
TRANSP:OPAQUE
END:VEVENT
END:VCALENDAR