BEGIN:VCALENDAR
VERSION:2.0
PRODID:-//jEvents 2.0 for Joomla//EN
CALSCALE:GREGORIAN
METHOD:PUBLISH
BEGIN:VEVENT
UID:68ff855b99e6ba7117e7482253d9e108
CATEGORIES:Community Events
CREATED:20260416T193955
SUMMARY:Globus Theatre presents Leave it to Cleavage
LOCATION:Globus Theatre (2300 Pigeon Lake Road\, Bobcaygeon ON)
DESCRIPTION:Starring Diana Frances and Karen Parker (Girls Nite Out), come laugh your l
 ashes off with 2 very funny 1950's housewives.\n\nThese cheeky 50s housewiv
 es full of martinis just don't understand you modern folk! They aim to brin
 g back the good old days through interactive audience participation and a t
 ipsy walk down memory lane.\n\nHelp them re-write their 'Helpful Housewife 
 Hints’ and they’ll get to know *you* with their 'Welcome Wagon' treats. The
  gals may even recreate a 'Day in the Life' of a woman who has it all - a f
 amily *and* a job! (PEARL CLUTCH!)\n\nShowtimes are as follows:\n- Thursday
 , July 30, 2026 8:00 pm - 10:00 pm\n- Friday, July 31, 2026 8:00 pm - 10:00
  pm\n- Saturday, August 1, 2026 8:00 pm - 10:00 pm\n\nJoin us for dinner be
 forehand or just come for the show! (Reservations required)\n\nCall the Box
  Office for tickets: (705) 738-2037 or 1-800-304-7897 OR order online: http
 s://www.globustheatre.com/shows-all/leave-it-to-cleavage\n\nGroup Rates Ava
 ilable.
X-ALT-DESC;FMTTYPE=text/html:Starring Diana Frances and Karen Parker (Girls Nite Out), come laugh your l
 ashes off with 2 very funny 1950's housewives.<br /><br />These cheeky 50s 
 housewives full of martinis just don't understand you modern folk! They aim
  to bring back the good old days through interactive audience participation
  and a tipsy walk down memory lane.<br /><br />Help them re-write their 'He
 lpful Housewife Hints’ and they’ll get to know *you* with their 'Welcome Wa
 gon' treats. The gals may even recreate a 'Day in the Life' of a woman who 
 has it all - a family *and* a job! (PEARL CLUTCH!)<br /><br />Showtimes are
  as follows:<br />- Thursday, July 30, 2026 8:00 pm - 10:00 pm<br />- Frida
 y, July 31, 2026 8:00 pm - 10:00 pm<br />- Saturday, August 1, 2026 8:00 pm
  - 10:00 pm<br /><br />Join us for dinner beforehand or just come for the s
 how! (Reservations required)<br /><br />Call the Box Office for tickets: (7
 05) 738-2037 or 1-800-304-7897 OR order online: https://www.globustheatre.c
 om/shows-all/leave-it-to-cleavage<br /><br />Group Rates Available.
CONTACT:(705) 738-2037 / This email address is being protected from spambots. You need JavaScript enabled to view it.
X-EXTRAINFO:Learn more about us and our 2026 Season here: https://www.globustheatre.com
 /
DTSTAMP:20260422T172416
DTSTART:20260730T200000
DTEND;VALUE=DATE:20260802
SEQUENCE:0
TRANSP:OPAQUE
END:VEVENT
END:VCALENDAR