BEGIN:VCALENDAR
VERSION:2.0
PRODID:-//jEvents 2.0 for Joomla//EN
CALSCALE:GREGORIAN
METHOD:PUBLISH
BEGIN:VEVENT
UID:2fa6cbfe7ce3e565f13930bb725631f2
CATEGORIES:Community Events
CREATED:20260416T194637
SUMMARY:Globus Theatre presents Fly Me to the Moon
LOCATION:Globus Theatre (2300 Pigeon Lake Road\, Bobcaygeon ON)
DESCRIPTION:A hilarious Belfast comedy from the playwright of Stones in His Pockets.\n\
 nTwo community carers are faced with a dilemma when their 84-year-old charg
 e dies on pension day. Francis and Loretta find that things get out of cont
 rol when they keep the pensioner's death secret.  A riotous comedy about tw
 o working class Belfast women faced with a rare temptation.\n\nJoin us for 
 dinner beforehand or just come for the show! (Reservations required)\n\nSho
 wtimes are as follows:\n- Wednesday, August 5, 2026 8:00 pm - 10:00 pm\n- T
 hursday, August 6, 2026 8:00 pm - 10:00 pm\n- Friday, August 7, 2026 8:00 p
 m - 10:00 pm\n- Saturday, August 8, 2026 2:00 pm - 4:00 pm\n- Saturday, Aug
 ust 8, 2026 8:00 pm - 10:00 pm\n- Wednesday, August 12, 2026 8:00 pm - 10:0
 0 pm\n- Thursday, August 13, 2026 2:00 pm - 4:00 pm\n- Thursday, August 13,
  2026 8:00 pm - 10:00 pm\n- Friday, August 14, 2026 8:00 pm - 10:00 pm\n- S
 aturday, August 15, 2026 8:00 pm - 10:00 pm\n\nCall the Box Office for tick
 ets: (705) 738-2037 or 1-800-304-7897 OR order online: https://www.globusth
 eatre.com/shows-all/fly-me-to-the-moon\n\nGroup Rates Available.
X-ALT-DESC;FMTTYPE=text/html:A hilarious Belfast comedy from the playwright of Stones in His Pockets.<br
  /><br />Two community carers are faced with a dilemma when their 84-year-o
 ld charge dies on pension day. Francis and Loretta find that things get out
  of control when they keep the pensioner's death secret.  A riotous comedy 
 about two working class Belfast women faced with a rare temptation.<br /><b
 r />Join us for dinner beforehand or just come for the show! (Reservations 
 required)<br /><br />Showtimes are as follows:<br />- Wednesday, August 5, 
 2026 8:00 pm - 10:00 pm<br />- Thursday, August 6, 2026 8:00 pm - 10:00 pm<
 br />- Friday, August 7, 2026 8:00 pm - 10:00 pm<br />- Saturday, August 8,
  2026 2:00 pm - 4:00 pm<br />- Saturday, August 8, 2026 8:00 pm - 10:00 pm<
 br />- Wednesday, August 12, 2026 8:00 pm - 10:00 pm<br />- Thursday, Augus
 t 13, 2026 2:00 pm - 4:00 pm<br />- Thursday, August 13, 2026 8:00 pm - 10:
 00 pm<br />- Friday, August 14, 2026 8:00 pm - 10:00 pm<br />- Saturday, Au
 gust 15, 2026 8:00 pm - 10:00 pm<br /><br />Call the Box Office for tickets
 : (705) 738-2037 or 1-800-304-7897 OR order online: https://www.globustheat
 re.com/shows-all/fly-me-to-the-moon<br /><br />Group Rates Available.
CONTACT:(705) 738-2037 / This email address is being protected from spambots. You need JavaScript enabled to view it.
X-EXTRAINFO:Learn more about us and our 2026 Season here: https://www.globustheatre.com
 /
DTSTAMP:20260422T173429
DTSTART:20260812T200000
DTEND;VALUE=DATE:20260816
SEQUENCE:0
TRANSP:OPAQUE
END:VEVENT
END:VCALENDAR