BEGIN:VCALENDAR
VERSION:2.0
PRODID:-//jEvents 2.0 for Joomla//EN
CALSCALE:GREGORIAN
METHOD:PUBLISH
BEGIN:VEVENT
UID:4fdc5fd254bb2902dbc6e5079595588d
CATEGORIES:Community Events
CREATED:20260416T195211
SUMMARY:Globus Theatre presents Beyond the Sea
LOCATION:Globus Theatre (2300 Pigeon Lake Road\, Bobcaygeon ON)
DESCRIPTION:One summer day on a pier, two strangers stumble into an encounter that just
  might save them both.\n\nTheo is a recently single man with self-image pro
 blem, Gwen is a good-humoured loner who works the ticket booth for a local 
 boat tour company. On a summer day on a pier in a small town, the two stran
 gers meet. Beyond the Sea is a story about the emergence of hope through gr
 ief.\n\nJoin us for dinner beforehand or just come for the show! (Reservati
 ons required)\n\nShowtimes are as follows:\n\n- Wednesday, August 19, 2026 
 8:00 pm - 10:00 pm\n- Thursday, August 20, 2026 8:00 pm - 10:00 pm\n- Frida
 y, August 21, 2026 8:00 pm - 10:00 pm\n- Saturday, August 22, 2026 2:00 pm 
 - 4:00 pm\n- Saturday, August 22, 2026 8:00 pm - 10:00 pm\n- Wednesday, Aug
 ust 26, 2026 8:00 pm - 10:00 pm\n- Thursday, August 27, 2026 2:00 pm - 4:00
  pm\n- Thursday, August 27, 2026 8:00 pm - 10:00 pm\n- Friday, August 28, 2
 026 8:00 pm - 10:00 pm\n- Saturday, August 29, 2026 8:00 pm - 10:00 pm\n\nC
 all the Box Office for tickets: (705) 738-2037 or 1-800-304-7897 OR order o
 nline: https://www.globustheatre.com/shows-all/beyond-the-sea\n\nGroup Rate
 s Available.
X-ALT-DESC;FMTTYPE=text/html:One summer day on a pier, two strangers stumble into an encounter that just
  might save them both.<br /><br />Theo is a recently single man with self-i
 mage problem, Gwen is a good-humoured loner who works the ticket booth for 
 a local boat tour company. On a summer day on a pier in a small town, the t
 wo strangers meet. Beyond the Sea is a story about the emergence of hope th
 rough grief.<br /><br />Join us for dinner beforehand or just come for the 
 show! (Reservations required)<br /><br />Showtimes are as follows:<br /><br
  />- Wednesday, August 19, 2026 8:00 pm - 10:00 pm<br />- Thursday, August 
 20, 2026 8:00 pm - 10:00 pm<br />- Friday, August 21, 2026 8:00 pm - 10:00 
 pm<br />- Saturday, August 22, 2026 2:00 pm - 4:00 pm<br />- Saturday, Augu
 st 22, 2026 8:00 pm - 10:00 pm<br />- Wednesday, August 26, 2026 8:00 pm - 
 10:00 pm<br />- Thursday, August 27, 2026 2:00 pm - 4:00 pm<br />- Thursday
 , August 27, 2026 8:00 pm - 10:00 pm<br />- Friday, August 28, 2026 8:00 pm
  - 10:00 pm<br />- Saturday, August 29, 2026 8:00 pm - 10:00 pm<br /><br />
 Call the Box Office for tickets: (705) 738-2037 or 1-800-304-7897 OR order 
 online: https://www.globustheatre.com/shows-all/beyond-the-sea<br /><br />G
 roup Rates Available.
CONTACT:(705) 738-2037 / This email address is being protected from spambots. You need JavaScript enabled to view it.
X-EXTRAINFO:Learn more about us and our 2026 Season here: https://www.globustheatre.com
 /
DTSTAMP:20260422T173504
DTSTART:20260819T200000
DTEND;VALUE=DATE:20260823
SEQUENCE:0
TRANSP:OPAQUE
END:VEVENT
END:VCALENDAR