BEGIN:VCALENDAR
VERSION:2.0
PRODID:-//jEvents 2.0 for Joomla//EN
CALSCALE:GREGORIAN
METHOD:PUBLISH
BEGIN:VEVENT
UID:b2ecdd45133224e2e828923cbe9842b4
CATEGORIES:Community Events
CREATED:20260416T195936
SUMMARY:Globus Theatre presents A Woman’s Love List
LOCATION:Globus Theatre (2300 Pigeon Lake Road\, Bobcaygeon ON)
DESCRIPTION:A new hilarious comedy from Canada's beloved playwright.\n\nMegan and Carly
  write down a list of qualities that describe the Perfect Man, and much to 
 their surprise, he appears! This new hilarious comedy from Canada's beloved
  playwright explores a woman's quest for the perfect mate. What these ladie
 s discover is that genuine love isn’t a quest for perfection, but a willing
 ness to love someone fully—quirks, flaws, and all.\n\nJoin us for dinner be
 forehand or just come for the show! (Reservations required)\n\nShowtimes ar
 e as follows:\n\n- Wednesday, September 30, 2026 8:00 pm - 10:00 pm\n- Thur
 sday, October 1, 2026 8:00 pm - 10:00 pm\n- Friday, October 2, 2026 8:00 pm
  - 10:00 pm\n- Saturday, October 3, 2026 2:00 pm - 4:00 pm\n- Saturday, Oct
 ober 3, 2026 8:00 pm - 10:00 pm\n- Wednesday, October 7, 2026 8:00 pm - 10:
 00 pm\n- Thursday, October 8, 2026 2:00 pm - 10:00 pm\n- Thursday, October 
 8, 2026 8:00 pm - 10:00 pm\n- Friday, October 9, 2026 8:00 pm - 10:00 pm\n-
  Saturday, October 10, 2026 2:00 pm - 4:00 pm\n- Saturday, October 10, 2026
  8:00 pm - 10:00 pm\n\nCall the Box Office for tickets: (705) 738-2037 or 1
 -800-304-7897 OR order online: https://www.globustheatre.com/shows-all/a-wo
 mans-love-list\n\nGroup Rates Available.
X-ALT-DESC;FMTTYPE=text/html:A new hilarious comedy from Canada's beloved playwright.<br /><br />Megan a
 nd Carly write down a list of qualities that describe the Perfect Man, and 
 much to their surprise, he appears! This new hilarious comedy from Canada's
  beloved playwright explores a woman's quest for the perfect mate. What the
 se ladies discover is that genuine love isn’t a quest for perfection, but a
  willingness to love someone fully—quirks, flaws, and all.<br /><br />Join 
 us for dinner beforehand or just come for the show! (Reservations required)
 <br /><br />Showtimes are as follows:<br /><br />- Wednesday, September 30,
  2026 8:00 pm - 10:00 pm<br />- Thursday, October 1, 2026 8:00 pm - 10:00 p
 m<br />- Friday, October 2, 2026 8:00 pm - 10:00 pm<br />- Saturday, Octobe
 r 3, 2026 2:00 pm - 4:00 pm<br />- Saturday, October 3, 2026 8:00 pm - 10:0
 0 pm<br />- Wednesday, October 7, 2026 8:00 pm - 10:00 pm<br />- Thursday, 
 October 8, 2026 2:00 pm - 10:00 pm<br />- Thursday, October 8, 2026 8:00 pm
  - 10:00 pm<br />- Friday, October 9, 2026 8:00 pm - 10:00 pm<br />- Saturd
 ay, October 10, 2026 2:00 pm - 4:00 pm<br />- Saturday, October 10, 2026 8:
 00 pm - 10:00 pm<br /><br />Call the Box Office for tickets: (705) 738-2037
  or 1-800-304-7897 OR order online: https://www.globustheatre.com/shows-all
 /a-womans-love-list<br /><br />Group Rates Available.
CONTACT:(705) 738-2037 / This email address is being protected from spambots. You need JavaScript enabled to view it.
X-EXTRAINFO:Learn more about us and our 2026 Season here: https://www.globustheatre.com
 /
DTSTAMP:20260422T204756
DTSTART:20260930T200000
DTEND;VALUE=DATE:20261004
SEQUENCE:0
TRANSP:OPAQUE
END:VEVENT
END:VCALENDAR