BEGIN:VCALENDAR
VERSION:2.0
PRODID:-//jEvents 2.0 for Joomla//EN
CALSCALE:GREGORIAN
METHOD:PUBLISH
BEGIN:VEVENT
UID:2e6750ff471b4054631ca6858e0678f3
CATEGORIES:Community Events
CREATED:20260416T201921
SUMMARY:Globus Theatre presents A Hula Holiday Homicide
LOCATION:Globus Theatre (2300 Pigeon Lake Road\, Bobcaygeon ON)
DESCRIPTION:A Tropically Festive Murder Mystery Dinner Theatre Experience!\n\nIt's the 
 most wonderful time of the year...especially when you're on a beach, baby!!
  Twinkling fairy lights are tangled in palm trees, carols drift over the wa
 ves, and the revellers on Surfside Beach have ditched the snow to enjoy a f
 estive tropical holiday with mulled rum, Santa hats and flip-flops.\n\nBut 
 beneath the tinsel and tan lines it transpires that someone has ditched bei
 ng nice for being very naughty and a murder ensures that this will be anyth
 ing but a Silent Night.\n\nAs the tide rolls in and tensions rise, we need 
 YOU to join us and turn detective. It's time to apply a little suspicion wi
 th your sunscreen...\n\nAn interactive dinner theatre murder mystery experi
 ence.\n\nShowtimes are as follows:\n- Thursday, November 19, 2026 6:30pm - 
 9:30pm\n- Friday, November 20, 2026 6:30pm - 9:30pm\n- Saturday, November 2
 1, 2026 6:30pm - 9:30pm\n- Thursday, November 26, 2026 6:30pm - 9:30pm\n- F
 riday, November 27, 2026 6:30pm - 9:30pm\n- Saturday, November 28, 2026 6:3
 0pm - 9:30pm\n\nCall the Box Office for tickets: (705) 738-2037 or 1-800-30
 4-7897 OR order online: https://www.globustheatre.com/shows-all/a-hula-holi
 day-homicide\n\nGroup Rates Available.
X-ALT-DESC;FMTTYPE=text/html:A Tropically Festive Murder Mystery Dinner Theatre Experience!<br /><br />I
 t's the most wonderful time of the year...especially when you're on a beach
 , baby!! Twinkling fairy lights are tangled in palm trees, carols drift ove
 r the waves, and the revellers on Surfside Beach have ditched the snow to e
 njoy a festive tropical holiday with mulled rum, Santa hats and flip-flops.
 <br /><br />But beneath the tinsel and tan lines it transpires that someone
  has ditched being nice for being very naughty and a murder ensures that th
 is will be anything but a Silent Night.<br /><br />As the tide rolls in and
  tensions rise, we need YOU to join us and turn detective. It's time to app
 ly a little suspicion with your sunscreen...<br /><br />An interactive dinn
 er theatre murder mystery experience.<br /><br />Showtimes are as follows:<
 br />- Thursday, November 19, 2026 6:30pm - 9:30pm<br />- Friday, November 
 20, 2026 6:30pm - 9:30pm<br />- Saturday, November 21, 2026 6:30pm - 9:30pm
 <br />- Thursday, November 26, 2026 6:30pm - 9:30pm<br />- Friday, November
  27, 2026 6:30pm - 9:30pm<br />- Saturday, November 28, 2026 6:30pm - 9:30p
 m<br /><br />Call the Box Office for tickets: (705) 738-2037 or 1-800-304-7
 897 OR order online: https://www.globustheatre.com/shows-all/a-hula-holiday
 -homicide<br /><br />Group Rates Available.
CONTACT:(705) 738-2037 / This email address is being protected from spambots. You need JavaScript enabled to view it.
X-EXTRAINFO:Learn more about us and our 2026 Season here: https://www.globustheatre.com
 /
DTSTAMP:20260422T222606
DTSTART:20261119T200000
DTEND;VALUE=DATE:20261122
SEQUENCE:0
TRANSP:OPAQUE
END:VEVENT
END:VCALENDAR