BEGIN:VCALENDAR
VERSION:2.0
PRODID:-//jEvents 2.0 for Joomla//EN
CALSCALE:GREGORIAN
METHOD:PUBLISH
BEGIN:VEVENT
UID:9df31136b383b498363a134a6f3f7213
CATEGORIES:Community Events
CREATED:20260419T113632
SUMMARY:Lakehurst Hall Spring Time Vendors Market
LOCATION:259 Lakehurst Circle Road
DESCRIPTION:Join us for our Spring Time Vendors Market at the Lakehurst Hall May 16th 2
 026.\n$5 admission, canteen on site, door prizes to be won!\n259 Lakehurst 
 Circle Road\n\nAll proceeds help support the Lakehurst Hall.\n\nTo be a ven
 dor, please contact This email address is being protected from spambots. Yo
 u need JavaScript enabled to view it.
X-ALT-DESC;FMTTYPE=text/html:Join us for our Spring Time Vendors Market at the Lakehurst Hall May 16th 2
 026.<br />$5 admission, canteen on site, door prizes to be won!<br />259 La
 kehurst Circle Road<br /><br />All proceeds help support the Lakehurst Hall
 .<br /><br />To be a vendor, please contact <joomla-hidden-mail  is-link="1
 " is-email="1" first="bGFrZWh1cnN0aGFsbA==" last="Z21haWwuY29t" text="bGFrZ
 Wh1cnN0aGFsbEBnbWFpbC5jb20=" base="" >This email address is being protected
  from spambots. You need JavaScript enabled to view it.</joomla-hidden-mail
 >
CONTACT:This email address is being protected from spambots. You need JavaScript enabled to view it.
DTSTAMP:20260420T164931
DTSTART:20260516T100000
DTEND:20260516T160000
SEQUENCE:0
TRANSP:OPAQUE
END:VEVENT
END:VCALENDAR