BEGIN:VCALENDAR
VERSION:2.0
PRODID:-//jEvents 2.0 for Joomla//EN
CALSCALE:GREGORIAN
METHOD:PUBLISH
BEGIN:VEVENT
UID:08f77c5d652855ac3da607079a515409
CATEGORIES:Community Events
CREATED:20260420T121708
SUMMARY:Cambridge St United Church Rummage Sale
LOCATION:Cambridge St United - 61 Cambridge St\, Lindsay
DESCRIPTION:Come to Cambridge St United Church on Saturday May 2 for our Spring Rummage
  Sale.  Lots of treasures including toys, puzzles, clothes and housewares. 
 Find some yummy treats including fudge at our Bake Sale. \n\nHours are 8:00
  - 12:30.  Our bag sale is from 1:00 - 3:00. You can fill a bag starting at
  $4 depending on the size of your bag - we have a supply of bags. 
X-ALT-DESC;FMTTYPE=text/html:Come to Cambridge St United Church on Saturday May 2 for our Spring Rummage
  Sale.  Lots of treasures including toys, puzzles, clothes and housewares. 
 Find some yummy treats including fudge at our Bake Sale. <br /><br />Hours 
 are 8:00 - 12:30.  Our bag sale is from 1:00 - 3:00. You can fill a bag sta
 rting at $4 depending on the size of your bag - we have a supply of bags. 
CONTACT:This email address is being protected from spambots. You need JavaScript enabled to view it.
DTSTAMP:20260422T120007
DTSTART:20260502T080000
DTEND:20260502T150000
SEQUENCE:0
TRANSP:OPAQUE
END:VEVENT
END:VCALENDAR