BEGIN:VCALENDAR
VERSION:2.0
PRODID:-//jEvents 2.0 for Joomla//EN
CALSCALE:GREGORIAN
METHOD:PUBLISH
BEGIN:VEVENT
UID:2b8269cd69a466e39da927e1d19f9ea1
CATEGORIES:Community Events
CREATED:20260420T145815
SUMMARY:Plant Sale
LOCATION:Beach Park\, Bobcaygeon
DESCRIPTION:The Bobcaygeon &amp; District Horticultural Society will hold their annual 
 Plant Sale on Saturday, May 23 from 8 am to noon at Beach Park in Bobcaygeo
 n.  Hundreds of perennials, house plants and garden items available. There 
 will be numerous Vendors taking part, selling everything from maple syrup, 
 garden art, worm composting, garden tool sharpening and much more.\nCash on
 ly.\n\nLocation *\n\n
X-ALT-DESC;FMTTYPE=text/html:The Bobcaygeon & District Horticultural Society will hold their annual Plan
 t Sale on Saturday, May 23 from 8 am to noon at Beach Park in Bobcaygeon.  
 Hundreds of perennials, house plants and garden items available. There will
  be numerous Vendors taking part, selling everything from maple syrup, gard
 en art, worm composting, garden tool sharpening and much more.<br />Cash on
 ly.<br /><br />Location *<br /><br />
CONTACT:Carol Chellew
DTSTAMP:20260423T063031
DTSTART:20260423T080000
DTEND:20260423T120000
SEQUENCE:0
TRANSP:OPAQUE
END:VEVENT
END:VCALENDAR