BEGIN:VCALENDAR
VERSION:2.0
PRODID:-//jEvents 2.0 for Joomla//EN
CALSCALE:GREGORIAN
METHOD:PUBLISH
BEGIN:VEVENT
UID:e2140047c4440570346557cd232234c3
CATEGORIES:Community Events
CREATED:20260420T162612
SUMMARY:Aging in your community
LOCATION:The community room at the Lindsay Rec Centre
DESCRIPTION:On April 28 from 6:30-7:30 pm, Dr. Nell Thomas will speak on aging in our c
 ommunity in her talk titled:  “Love Vitality and Value. The legacy of our e
 lders.”  This is a talk she gave last fall in the Haliburton/Minden area wh
 ere it was standing room only! We are pleased to offer it here for the Kawa
 rtha Lakes community.  Join us in the Community Room at the Lindsay Recreat
 ion Centre.\n\nThis is a free event\n\n
X-ALT-DESC;FMTTYPE=text/html:On April 28 from 6:30-7:30 pm, Dr. Nell Thomas will speak on aging in our c
 ommunity in her talk titled:  “Love Vitality and Value. The legacy of our e
 lders.”  This is a talk she gave last fall in the Haliburton/Minden area wh
 ere it was standing room only! We are pleased to offer it here for the Kawa
 rtha Lakes community.  Join us in the Community Room at the Lindsay Recreat
 ion Centre.<br /><br />This is a free event<br /><br />
X-EXTRAINFO:This event is sponsored by the Haliburton-Kawartha Lakes Federal Liberal As
 sociation
DTSTAMP:20260423T100026
DTSTART:20260428T183000
DTEND:20260428T193000
SEQUENCE:0
TRANSP:OPAQUE
END:VEVENT
END:VCALENDAR