BEGIN:VCALENDAR
VERSION:2.0
PRODID:-//jEvents 2.0 for Joomla//EN
CALSCALE:GREGORIAN
METHOD:PUBLISH
BEGIN:VEVENT
UID:0796b16d242fed4dc3fae58714d69b46
CATEGORIES:Community Events
CREATED:20260421T184548
SUMMARY:2026 Peterborough-Northumberland MS Walk
LOCATION:Port Hope Memorial Park and Bandshell (44 Queen Street\, Port Hope\, L1A 2Y
 7)
DESCRIPTION:Join us at the 2026 Peterborough-Northumberland Walk to celebrate the stren
 gth of everyone affected by MS. \nConnect with the MS community on Sunday, 
 May 31, 2026. Join us in-person at the Port Hope Memorial Park and Bandshel
 l or walk virtually with people across Canada. \nEvery step fuels awareness
 , strengthens support networks, and drives research for over 90,000 Canadia
 ns affected by MS. \n\nRegister for Peterborough-Northumberland MS Walk tod
 ay at https://msspwalk.donordrive.com/events/1331\n\nFor more information, 
 contact: Casey Voisine - casey.voisine@mscanada.
X-ALT-DESC;FMTTYPE=text/html:Join us at the 2026 Peterborough-Northumberland Walk to celebrate the stren
 gth of everyone affected by MS. <br />Connect with the MS community on Sund
 ay, May 31, 2026. Join us in-person at the Port Hope Memorial Park and Band
 shell or walk virtually with people across Canada. <br />Every step fuels a
 wareness, strengthens support networks, and drives research for over 90,000
  Canadians affected by MS. <br /><br />Register for Peterborough-Northumber
 land MS Walk today at https://msspwalk.donordrive.com/events/1331<br /><br 
 />For more information, contact: Casey Voisine - casey.voisine@mscanada.
CONTACT:Casey Voisine 
DTSTAMP:20260422T134221
DTSTART:20260531T100000
DTEND:20260531T140000
SEQUENCE:0
TRANSP:OPAQUE
END:VEVENT
END:VCALENDAR