BEGIN:VCALENDAR
VERSION:2.0
PRODID:-//jEvents 2.0 for Joomla//EN
CALSCALE:GREGORIAN
METHOD:PUBLISH
BEGIN:VEVENT
UID:385a3c3b4a4c89ce0175ddc041d8ec64
CATEGORIES:Community Events
CREATED:20260421T195340
SUMMARY:Globus Theatre presents Snow White and the Seven Dwarfs
LOCATION:Globus Theatre (2300 Pigeon Lake Road\, Bobcaygeon ON)
DESCRIPTION:In this laughter-packed family adventure we meet the Baron Weakneazie and h
 is new bride, the Red Queen of Poppydale, who is making life miserable for 
 step-daughter Snow White.  With only her nanny, Dame Wobbley Botham, to com
 fort her Snow White seeks shelter at the home of 7 colourful characters.\n\
 nJoin us for dinner before our evening shows or just come for the show! (Re
 servations required)\n\nPublic showtimes are as follows:\n\n- Friday, Decem
 ber 11, 7pm\n- Saturday, December 12, 2pm\n- Saturday, December 12, 8pm\n- 
 Sunday, December 13, 2pm\n- Friday, December 18, 8pm\n- Saturday, December 
 19, 2pm\n- Saturday, December 19, 8pm\n- Sunday, December 20, 2pm\n\nSchool
  bookings are available on:\n\n- Wednesday, December 9\n- Thursday, Decembe
 r 10\n- Tuesday, December 15\n- Wednesday, December 16\n- Thursday, Decembe
 r 17\n\nCall the Box Office for tickets: (705) 738-2037 or 1-800-304-7897 O
 R order online: https://www.globustheatre.com/shows-all/snow-white\n\nGroup
  Rates Available.
X-ALT-DESC;FMTTYPE=text/html:In this laughter-packed family adventure we meet the Baron Weakneazie and h
 is new bride, the Red Queen of Poppydale, who is making life miserable for 
 step-daughter Snow White.  With only her nanny, Dame Wobbley Botham, to com
 fort her Snow White seeks shelter at the home of 7 colourful characters.<br
  /><br />Join us for dinner before our evening shows or just come for the s
 how! (Reservations required)<br /><br />Public showtimes are as follows:<br
  /><br />- Friday, December 11, 7pm<br />- Saturday, December 12, 2pm<br />
 - Saturday, December 12, 8pm<br />- Sunday, December 13, 2pm<br />- Friday,
  December 18, 8pm<br />- Saturday, December 19, 2pm<br />- Saturday, Decemb
 er 19, 8pm<br />- Sunday, December 20, 2pm<br /><br />School bookings are a
 vailable on:<br /><br />- Wednesday, December 9<br />- Thursday, December 1
 0<br />- Tuesday, December 15<br />- Wednesday, December 16<br />- Thursday
 , December 17<br /><br />Call the Box Office for tickets: (705) 738-2037 or
  1-800-304-7897 OR order online: https://www.globustheatre.com/shows-all/sn
 ow-white<br /><br />Group Rates Available.
CONTACT:(705) 738-2037 / This email address is being protected from spambots. You need JavaScript enabled to view it.
X-EXTRAINFO:Learn more about us and our 2026 Season here: https://www.globustheatre.com
 /
DTSTAMP:20260423T001252
DTSTART:20261211T200000
DTEND;VALUE=DATE:20261214
SEQUENCE:0
TRANSP:OPAQUE
END:VEVENT
END:VCALENDAR