BEGIN:VCALENDAR
VERSION:2.0
PRODID:-//jEvents 2.0 for Joomla//EN
CALSCALE:GREGORIAN
METHOD:PUBLISH
BEGIN:VEVENT
UID:5a2ea07ea5db961e69bdb3eb310aa253
CATEGORIES:Community Events
CREATED:20260422T074041
SUMMARY:Paint w/ Me!
LOCATION:6666 Hwy 35\, Coboconk
DESCRIPTION:A Tribute to Bob Ross @ The Blue Room with Deb Hallett; I’ll bring the supp
 lies &amp; teach you, you take your masterpiece home! \nBYOB &amp; Snacks! 
 Since you can bring your own refreshments, you save on bar prices while enj
 oying a creative afternoon. We are gathering at The Blue Room—a local gem i
 n Coboconk known for its welcoming, artistic atmosphere. Whether you’re a t
 otal beginner or a seasoned pro, we’ll be channeling the "King of Happy Tre
 es" to create beautiful landscapes in a relaxed, friendly space.\n\nVisit h
 ttps://paintwithme.debsartnook.ca/ for more information.\nVisit https://pai
 ntwithme.ticketspice.com/the-blue-room to get your tickets now!
X-ALT-DESC;FMTTYPE=text/html:A Tribute to Bob Ross @ The Blue Room with Deb Hallett; I’ll bring the supp
 lies & teach you, you take your masterpiece home! <br />BYOB & Snacks! Sinc
 e you can bring your own refreshments, you save on bar prices while enjoyin
 g a creative afternoon. We are gathering at The Blue Room—a local gem in Co
 boconk known for its welcoming, artistic atmosphere. Whether you’re a total
  beginner or a seasoned pro, we’ll be channeling the "King of Happy Trees" 
 to create beautiful landscapes in a relaxed, friendly space.<br /><br />Vis
 it https://paintwithme.debsartnook.ca/ for more information.<br />Visit htt
 ps://paintwithme.ticketspice.com/the-blue-room to get your tickets now!
CONTACT:Deb Hallett | c: (705) 771-1744
X-EXTRAINFO:Cost: $35 (Covers all materials &amp; venue cover fee).\n\nRegister ONLINE:
 \npaintwithme.ticketspice.com/the-blue-room\n\nNOTE: Space is limited! 
DTSTAMP:20260422T181651
DTSTART:20260507T183000
DTEND:20260507T210000
SEQUENCE:0
TRANSP:OPAQUE
END:VEVENT
END:VCALENDAR