BEGIN:VCALENDAR
VERSION:2.0
PRODID:-//jEvents 2.0 for Joomla//EN
CALSCALE:GREGORIAN
METHOD:PUBLISH
BEGIN:VEVENT
UID:0cb49f65c21b03983a2cd323482a0463
CATEGORIES:Community Events
CREATED:20260423T003638
SUMMARY:Symphony and Singers in Concert: Haydn's The Creation
LOCATION:Showplace Performance Centre\, 290 George St. N.\, Peterborough
DESCRIPTION:The Peterborough Symphony Orchestra and Peterborough Singers unite for a sp
 ecial concert featuring Joseph Haydn’s beloved oratorio, The Creation. This
  inspiring collaboration brings together orchestra and chorus, under the di
 rection of Michael Newnham, to present a vivid musical journey from chaos t
 o light, filled with dramatic storytelling and radiant sound.\n\nThe Creati
 on depicts the genesis of the world with breathtaking orchestration, radian
 t choruses, and soaring solo performances. Joining the PSO and Peterborough
  Singers are vocal soloists, Karoline Podolak, soprano, Jacob Abrahamse, te
 nor, Alexander Dobson, baritone, William Kraushaar, bass and Shannon McCrac
 ken, soprano. “When the PSO joins forces with the Peterborough Singers,” Ma
 estro Newnham says, “something special always happens. It’s something that 
 only comes around rarely. This will be a weekend of great music-making that
  Peterborough will be talking about for a long time to come.”\n\nThe concer
 t will be held on Saturday, May 9 at 7:30 pm and Sunday, May 10 at 3 pm at 
 Emmanuel United Church. Consider arriving 45 minutes early for Maestro Newn
 ham’s pre-concert talk and get a sneak peek of what you will hear.\n\nAudie
 nces will be transported from chaos to light, experiencing Haydn’s genius i
 n a live performance that showcases the depth and artistry of Peterborough’
 s vibrant music community. Don’t miss this unforgettable concert celebratin
 g the power of live music!\n\nTo purchase tickets, visit https://thepso.org
 /the-creation or call 705-742-1992. Check out Maestro Newnham’s curated Spo
 tify playlist to get you in the mood for this concert. You can also purchas
 e tickets through the Peterborough Singers: https://www.peterboroughsingers
 .com/tickets/ or call 705-745-1820.
X-ALT-DESC;FMTTYPE=text/html:The Peterborough Symphony Orchestra and Peterborough Singers unite for a sp
 ecial concert featuring Joseph Haydn’s beloved oratorio, The Creation. This
  inspiring collaboration brings together orchestra and chorus, under the di
 rection of Michael Newnham, to present a vivid musical journey from chaos t
 o light, filled with dramatic storytelling and radiant sound.<br /><br />Th
 e Creation depicts the genesis of the world with breathtaking orchestration
 , radiant choruses, and soaring solo performances. Joining the PSO and Pete
 rborough Singers are vocal soloists, Karoline Podolak, soprano, Jacob Abrah
 amse, tenor, Alexander Dobson, baritone, William Kraushaar, bass and Shanno
 n McCracken, soprano. “When the PSO joins forces with the Peterborough Sing
 ers,” Maestro Newnham says, “something special always happens. It’s somethi
 ng that only comes around rarely. This will be a weekend of great music-mak
 ing that Peterborough will be talking about for a long time to come.”<br />
 <br />The concert will be held on Saturday, May 9 at 7:30 pm and Sunday, Ma
 y 10 at 3 pm at Emmanuel United Church. Consider arriving 45 minutes early 
 for Maestro Newnham’s pre-concert talk and get a sneak peek of what you wil
 l hear.<br /><br />Audiences will be transported from chaos to light, exper
 iencing Haydn’s genius in a live performance that showcases the depth and a
 rtistry of Peterborough’s vibrant music community. Don’t miss this unforget
 table concert celebrating the power of live music!<br /><br />To purchase t
 ickets, visit https://thepso.org/the-creation or call 705-742-1992. Check o
 ut Maestro Newnham’s curated Spotify playlist to get you in the mood for th
 is concert. You can also purchase tickets through the Peterborough Singers:
  https://www.peterboroughsingers.com/tickets/ or call 705-745-1820.
CONTACT:Monique Beneteau, This email address is being protected from spambots. You need JavaScript enabled to view it.
DTSTAMP:20260424T010351
DTSTART:20260509T193000
DTEND:20260509T220000
SEQUENCE:0
TRANSP:OPAQUE
END:VEVENT
END:VCALENDAR