BEGIN:VCALENDAR
VERSION:2.0
PRODID:-//jEvents 2.0 for Joomla//EN
CALSCALE:GREGORIAN
METHOD:PUBLISH
BEGIN:VEVENT
UID:d3afa4fef95410f7e18054fcf445efd9
CATEGORIES:Community Events
CREATED:20260423T014829
SUMMARY:Plant and Book Sale
LOCATION:DOURO DUMMER LIBARY
DESCRIPTION:The Friends of the Douro Dummer Library are having their annual book and pl
 ant sale on May 9th from 8 to 12.  We are accepting donations of both books
  and plants fro May 2nd to the 9th.  No text books or encyclopedias PLEASE.
 \nThe funds raised will be used to support the library and enhance the outd
 oor space.\n\n
X-ALT-DESC;FMTTYPE=text/html:The Friends of the Douro Dummer Library are having their annual book and pl
 ant sale on May 9th from 8 to 12.  We are accepting donations of both books
  and plants fro May 2nd to the 9th.  No text books or encyclopedias PLEASE.
 <br />The funds raised will be used to support the library and enhance the 
 outdoor space.<br /><br />
CONTACT:Georgia Gale-Kidd
DTSTAMP:20260424T010311
DTSTART:20260509T080000
DTEND:20260509T120000
SEQUENCE:0
TRANSP:OPAQUE
END:VEVENT
END:VCALENDAR