BEGIN:VCALENDAR
VERSION:2.0
PRODID:-//jEvents 2.0 for Joomla//EN
CALSCALE:GREGORIAN
METHOD:PUBLISH
BEGIN:VEVENT
UID:ced04a47c914ff656a2433215519197d
CATEGORIES:Community Events
CREATED:20260423T131838
SUMMARY:Celebrity Server evening with the Kawartha Lakes Paramedic Service
LOCATION:Boston Pizza Lindsay
DESCRIPTION:Kawartha Lakes Paramedic Service is excited to share that we have our annua
 l celebrity server evening coming up again!\n\nOn May 19 from 6 to 8 PM, we
  are hosting a Celebrity Server Night at Boston Pizza. Some of your coworke
 rs will be stepping into the spotlight as guest servers for the evening, al
 l in support of the Boys and Girls Club.\n\nIt is a great chance to come ou
 t, have a fun night together, and show your support. Even better, 10 percen
 t of all proceeds from the evening will be donated to the Boys and Girls Cl
 ub, so your visit will help make a real impact.\n\nThank you for supporting
  each other and helping make this event a success.\n
X-ALT-DESC;FMTTYPE=text/html:Kawartha Lakes Paramedic Service is excited to share that we have our annua
 l celebrity server evening coming up again!<br /><br />On May 19 from 6 to 
 8 PM, we are hosting a Celebrity Server Night at Boston Pizza. Some of your
  coworkers will be stepping into the spotlight as guest servers for the eve
 ning, all in support of the Boys and Girls Club.<br /><br />It is a great c
 hance to come out, have a fun night together, and show your support. Even b
 etter, 10 percent of all proceeds from the evening will be donated to the B
 oys and Girls Club, so your visit will help make a real impact.<br /><br />
 Thank you for supporting each other and helping make this event a success.<
 br />
DTSTAMP:20260424T010324
DTSTART:20260519T180000
DTEND:20260519T200000
SEQUENCE:0
TRANSP:OPAQUE
END:VEVENT
END:VCALENDAR