BEGIN:VCALENDAR
VERSION:2.0
PRODID:-//jEvents 2.0 for Joomla//EN
CALSCALE:GREGORIAN
METHOD:PUBLISH
BEGIN:VEVENT
UID:c05e6824c9dc804d0bafc3230220fb3a
CATEGORIES:Community Events
CREATED:20260423T145150
SUMMARY:Make It Handmade Peterborough Crafters Event
LOCATION:1550 Lansdowne St West
DESCRIPTION:Looking for a unique Mother’s Day Gift? \nYou’ll for sure find it at this e
 vent!!! \nCome out and support local! \nYou’ll find baked goods, tumblers, 
 bath bombs, body scrubs, body creams, candles, earrings, necklaces, dolls, 
 greeting cards, microwaveable bowl cozies, diamond art, 3D printing,  pet b
 andanas, string art, wood work, art decor, holiday decor AND SO MUCH MORE! 
 \n
X-ALT-DESC;FMTTYPE=text/html:Looking for a unique Mother’s Day Gift? <br />You’ll for sure find it at th
 is event!!! <br />Come out and support local! <br />You’ll find baked goods
 , tumblers, bath bombs, body scrubs, body creams, candles, earrings, neckla
 ces, dolls, greeting cards, microwaveable bowl cozies, diamond art, 3D prin
 ting,  pet bandanas, string art, wood work, art decor, holiday decor AND SO
  MUCH MORE! <br />
CONTACT:Donna Reid
X-EXTRAINFO:FREE ADMISSION \n\nLocated in the back banquet hall at the Peterborough Leg
 ion 
DTSTAMP:20260424T023943
DTSTART:20260503T100000
DTEND:20260503T150000
SEQUENCE:0
TRANSP:OPAQUE
END:VEVENT
END:VCALENDAR